BEGIN:VCALENDAR
VERSION:2.0
PRODID:-//tipp_game//dynamop//
TZID:Europe/Berlin
X-WR-CALNAME:EBB Spielplan
BEGIN:VEVENT
SUMMARY:1. Spieltag: Eisbären Berlin vs. Straubing Tigers
DTSTART;TZID=Europe/Berlin:20160916T193000
DTEND;TZID=Europe/Berlin:20160916T220000
UID:1@dynamop
PRIORITY:5
END:VEVENT
BEGIN:VEVENT
SUMMARY:2. Spieltag: Düsseldorfer EG vs. Eisbären Berlin
DTSTART;TZID=Europe/Berlin:20160918T163000
DTEND;TZID=Europe/Berlin:20160918T190000
UID:2@dynamop
PRIORITY:5
END:VEVENT
BEGIN:VEVENT
SUMMARY:3. Spieltag: Eisbären Berlin vs. EHC Red Bull München
DTSTART;TZID=Europe/Berlin:20160923T193000
DTEND;TZID=Europe/Berlin:20160923T220000
UID:3@dynamop
PRIORITY:5
END:VEVENT
BEGIN:VEVENT
SUMMARY:4. Spieltag: Schwenninger Wild Wings vs. Eisbären Berlin
DTSTART;TZID=Europe/Berlin:20160925T140000
DTEND;TZID=Europe/Berlin:20160925T163000
UID:4@dynamop
PRIORITY:5
END:VEVENT
BEGIN:VEVENT
SUMMARY:5. Spieltag: Eisbären Berlin vs. Nürnberg Ice Tigers
DTSTART;TZID=Europe/Berlin:20160930T193000
DTEND;TZID=Europe/Berlin:20160930T220000
UID:5@dynamop
PRIORITY:5
END:VEVENT
BEGIN:VEVENT
SUMMARY:6. Spieltag: Grizzlys Wolfsburg vs. Eisbären Berlin
DTSTART;TZID=Europe/Berlin:20161002T140000
DTEND;TZID=Europe/Berlin:20161002T163000
UID:6@dynamop
PRIORITY:5
END:VEVENT
BEGIN:VEVENT
SUMMARY:7. Spieltag: Eisbären Berlin vs. Kölner Haie
DTSTART;TZID=Europe/Berlin:20161007T193000
DTEND;TZID=Europe/Berlin:20161007T220000
UID:7@dynamop
PRIORITY:5
END:VEVENT
BEGIN:VEVENT
SUMMARY:8. Spieltag: Eisbären Berlin vs. Krefeld Pinguine
DTSTART;TZID=Europe/Berlin:20161009T140000
DTEND;TZID=Europe/Berlin:20161009T163000
UID:8@dynamop
PRIORITY:5
END:VEVENT
BEGIN:VEVENT
SUMMARY:9. Spieltag: ERC Ingolstadt vs. Eisbären Berlin
DTSTART;TZID=Europe/Berlin:20161014T193000
DTEND;TZID=Europe/Berlin:20161014T220000
UID:9@dynamop
PRIORITY:5
END:VEVENT
BEGIN:VEVENT
SUMMARY:10. Spieltag: Pinguins Bremerhaven vs. Eisbären Berlin
DTSTART;TZID=Europe/Berlin:20161016T140000
DTEND;TZID=Europe/Berlin:20161016T163000
UID:10@dynamop
PRIORITY:5
END:VEVENT
BEGIN:VEVENT
SUMMARY:11. Spieltag: Iserlohn Roosters vs. Eisbären Berlin
DTSTART;TZID=Europe/Berlin:20161019T193000
DTEND;TZID=Europe/Berlin:20161019T220000
UID:11@dynamop
PRIORITY:5
END:VEVENT
BEGIN:VEVENT
SUMMARY:12. Spieltag: Eisbären Berlin vs. Augsburger Panther
DTSTART;TZID=Europe/Berlin:20161021T193000
DTEND;TZID=Europe/Berlin:20161021T220000
UID:12@dynamop
PRIORITY:5
END:VEVENT
BEGIN:VEVENT
SUMMARY:13. Spieltag: Eisbären Berlin vs. Adler Mannheim
DTSTART;TZID=Europe/Berlin:20161023T163000
DTEND;TZID=Europe/Berlin:20161023T190000
UID:13@dynamop
PRIORITY:5
END:VEVENT
BEGIN:VEVENT
SUMMARY:14. Spieltag: EHC Red Bull München vs. Eisbären Berlin
DTSTART;TZID=Europe/Berlin:20161026T193000
DTEND;TZID=Europe/Berlin:20161026T220000
UID:14@dynamop
PRIORITY:5
END:VEVENT
BEGIN:VEVENT
SUMMARY:15. Spieltag: Straubing Tigers vs. Eisbären Berlin
DTSTART;TZID=Europe/Berlin:20161028T193000
DTEND;TZID=Europe/Berlin:20161028T220000
UID:15@dynamop
PRIORITY:5
END:VEVENT
BEGIN:VEVENT
SUMMARY:16. Spieltag: Eisbären Berlin vs. Schwenninger Wild Wings
DTSTART;TZID=Europe/Berlin:20161030T140000
DTEND;TZID=Europe/Berlin:20161030T163000
UID:16@dynamop
PRIORITY:5
END:VEVENT
BEGIN:VEVENT
SUMMARY:17. Spieltag: Nürnberg Ice Tigers vs. Eisbären Berlin
DTSTART;TZID=Europe/Berlin:20161111T193000
DTEND;TZID=Europe/Berlin:20161111T220000
UID:17@dynamop
PRIORITY:5
END:VEVENT
BEGIN:VEVENT
SUMMARY:18. Spieltag: Kölner Haie vs. Eisbären Berlin
DTSTART;TZID=Europe/Berlin:20161113T163000
DTEND;TZID=Europe/Berlin:20161113T190000
UID:18@dynamop
PRIORITY:5
END:VEVENT
BEGIN:VEVENT
SUMMARY:19. Spieltag: Krefeld Pinguine vs. Eisbären Berlin
DTSTART;TZID=Europe/Berlin:20161115T193000
DTEND;TZID=Europe/Berlin:20161115T220000
UID:19@dynamop
PRIORITY:5
END:VEVENT
BEGIN:VEVENT
SUMMARY:20. Spieltag: Eisbären Berlin vs. Iserlohn Roosters
DTSTART;TZID=Europe/Berlin:20161118T193000
DTEND;TZID=Europe/Berlin:20161118T220000
UID:20@dynamop
PRIORITY:5
END:VEVENT
BEGIN:VEVENT
SUMMARY:21. Spieltag: Adler Mannheim vs. Eisbären Berlin
DTSTART;TZID=Europe/Berlin:20161122T193000
DTEND;TZID=Europe/Berlin:20161122T220000
UID:21@dynamop
PRIORITY:5
END:VEVENT
BEGIN:VEVENT
SUMMARY:22. Spieltag: Eisbären Berlin vs. Düsseldorfer EG
DTSTART;TZID=Europe/Berlin:20161125T193000
DTEND;TZID=Europe/Berlin:20161125T220000
UID:22@dynamop
PRIORITY:5
END:VEVENT
BEGIN:VEVENT
SUMMARY:23. Spieltag: Eisbären Berlin vs. ERC Ingolstadt
DTSTART;TZID=Europe/Berlin:20161127T140000
DTEND;TZID=Europe/Berlin:20161127T163000
UID:23@dynamop
PRIORITY:5
END:VEVENT
BEGIN:VEVENT
SUMMARY:46. Spieltag: Eisbären Berlin vs. Straubing Tigers
DTSTART;TZID=Europe/Berlin:20161130T193000
DTEND;TZID=Europe/Berlin:20161130T220000
UID:46@dynamop
PRIORITY:5
END:VEVENT
BEGIN:VEVENT
SUMMARY:24. Spieltag: Augsburger Panther vs. Eisbären Berlin
DTSTART;TZID=Europe/Berlin:20161202T193000
DTEND;TZID=Europe/Berlin:20161202T220000
UID:24@dynamop
PRIORITY:5
END:VEVENT
BEGIN:VEVENT
SUMMARY:25. Spieltag: Eisbären Berlin vs. Pinguins Bremerhaven
DTSTART;TZID=Europe/Berlin:20161204T163000
DTEND;TZID=Europe/Berlin:20161204T190000
UID:25@dynamop
PRIORITY:5
END:VEVENT
BEGIN:VEVENT
SUMMARY:26. Spieltag: Eisbären Berlin vs. Grizzlys Wolfsburg
DTSTART;TZID=Europe/Berlin:20161209T193000
DTEND;TZID=Europe/Berlin:20161209T220000
UID:26@dynamop
PRIORITY:5
END:VEVENT
BEGIN:VEVENT
SUMMARY:27. Spieltag: Düsseldorfer EG vs. Eisbären Berlin
DTSTART;TZID=Europe/Berlin:20161211T163000
DTEND;TZID=Europe/Berlin:20161211T190000
UID:27@dynamop
PRIORITY:5
END:VEVENT
BEGIN:VEVENT
SUMMARY:28. Spieltag: Iserlohn Roosters vs. Eisbären Berlin
DTSTART;TZID=Europe/Berlin:20161216T193000
DTEND;TZID=Europe/Berlin:20161216T220000
UID:28@dynamop
PRIORITY:5
END:VEVENT
BEGIN:VEVENT
SUMMARY:29. Spieltag: Eisbären Berlin vs. Nürnberg Ice Tigers
DTSTART;TZID=Europe/Berlin:20161218T190000
DTEND;TZID=Europe/Berlin:20161218T213000
UID:29@dynamop
PRIORITY:5
END:VEVENT
BEGIN:VEVENT
SUMMARY:36. Spieltag: Schwenninger Wild Wings vs. Eisbären Berlin
DTSTART;TZID=Europe/Berlin:20161221T193000
DTEND;TZID=Europe/Berlin:20161221T220000
UID:36@dynamop
PRIORITY:5
END:VEVENT
BEGIN:VEVENT
SUMMARY:30. Spieltag: Eisbären Berlin vs. Grizzlys Wolfsburg
DTSTART;TZID=Europe/Berlin:20161223T193000
DTEND;TZID=Europe/Berlin:20161223T220000
UID:30@dynamop
PRIORITY:5
END:VEVENT
BEGIN:VEVENT
SUMMARY:31. Spieltag: ERC Ingolstadt vs. Eisbären Berlin
DTSTART;TZID=Europe/Berlin:20161226T163000
DTEND;TZID=Europe/Berlin:20161226T190000
UID:31@dynamop
PRIORITY:5
END:VEVENT
BEGIN:VEVENT
SUMMARY:32. Spieltag: Eisbären Berlin vs. Krefeld Pinguine
DTSTART;TZID=Europe/Berlin:20161228T193000
DTEND;TZID=Europe/Berlin:20161228T220000
UID:32@dynamop
PRIORITY:5
END:VEVENT
BEGIN:VEVENT
SUMMARY:33. Spieltag: EHC Red Bull München vs. Eisbären Berlin
DTSTART;TZID=Europe/Berlin:20161230T193000
DTEND;TZID=Europe/Berlin:20161230T220000
UID:33@dynamop
PRIORITY:5
END:VEVENT
BEGIN:VEVENT
SUMMARY:34. Spieltag: Eisbären Berlin vs. Augsburger Panther
DTSTART;TZID=Europe/Berlin:20170103T193000
DTEND;TZID=Europe/Berlin:20170103T220000
UID:34@dynamop
PRIORITY:5
END:VEVENT
BEGIN:VEVENT
SUMMARY:35. Spieltag: Eisbären Berlin vs. Kölner Haie
DTSTART;TZID=Europe/Berlin:20170106T193000
DTEND;TZID=Europe/Berlin:20170106T220000
UID:35@dynamop
PRIORITY:5
END:VEVENT
BEGIN:VEVENT
SUMMARY:37. Spieltag: Straubing Tigers vs. Eisbären Berlin
DTSTART;TZID=Europe/Berlin:20170113T193000
DTEND;TZID=Europe/Berlin:20170113T220000
UID:37@dynamop
PRIORITY:5
END:VEVENT
BEGIN:VEVENT
SUMMARY:38. Spieltag: Pinguins Bremerhaven vs. Eisbären Berlin
DTSTART;TZID=Europe/Berlin:20170115T140000
DTEND;TZID=Europe/Berlin:20170115T163000
UID:38@dynamop
PRIORITY:5
END:VEVENT
BEGIN:VEVENT
SUMMARY:39. Spieltag: Eisbären Berlin vs. Adler Mannheim
DTSTART;TZID=Europe/Berlin:20170120T193000
DTEND;TZID=Europe/Berlin:20170120T220000
UID:39@dynamop
PRIORITY:5
END:VEVENT
BEGIN:VEVENT
SUMMARY:40. Spieltag: Adler Mannheim vs. Eisbären Berlin
DTSTART;TZID=Europe/Berlin:20170122T163000
DTEND;TZID=Europe/Berlin:20170122T190000
UID:40@dynamop
PRIORITY:5
END:VEVENT
BEGIN:VEVENT
SUMMARY:41. Spieltag: Eisbären Berlin vs. Düsseldorfer EG
DTSTART;TZID=Europe/Berlin:20170124T193000
DTEND;TZID=Europe/Berlin:20170124T220000
UID:41@dynamop
PRIORITY:5
END:VEVENT
BEGIN:VEVENT
SUMMARY:42. Spieltag: Eisbären Berlin vs. EHC Red Bull München
DTSTART;TZID=Europe/Berlin:20170127T193000
DTEND;TZID=Europe/Berlin:20170127T220000
UID:42@dynamop
PRIORITY:5
END:VEVENT
BEGIN:VEVENT
SUMMARY:43. Spieltag: Nürnberg Ice Tigers vs. Eisbären Berlin
DTSTART;TZID=Europe/Berlin:20170129T190000
DTEND;TZID=Europe/Berlin:20170129T213000
UID:43@dynamop
PRIORITY:5
END:VEVENT
BEGIN:VEVENT
SUMMARY:49. Spieltag: Eisbären Berlin vs. Schwenninger Wild Wings
DTSTART;TZID=Europe/Berlin:20170131T193000
DTEND;TZID=Europe/Berlin:20170131T220000
UID:49@dynamop
PRIORITY:5
END:VEVENT
BEGIN:VEVENT
SUMMARY:44. Spieltag: Augsburger Panther vs. Eisbären Berlin
DTSTART;TZID=Europe/Berlin:20170203T193000
DTEND;TZID=Europe/Berlin:20170203T220000
UID:44@dynamop
PRIORITY:5
END:VEVENT
BEGIN:VEVENT
SUMMARY:45. Spieltag: Grizzlys Wolfsburg vs. Eisbären Berlin
DTSTART;TZID=Europe/Berlin:20170205T140000
DTEND;TZID=Europe/Berlin:20170205T163000
UID:45@dynamop
PRIORITY:5
END:VEVENT
BEGIN:VEVENT
SUMMARY:47. Spieltag: Kölner Haie vs. Eisbären Berlin
DTSTART;TZID=Europe/Berlin:20170212T163000
DTEND;TZID=Europe/Berlin:20170212T190000
UID:47@dynamop
PRIORITY:5
END:VEVENT
BEGIN:VEVENT
SUMMARY:48. Spieltag: Eisbären Berlin vs. Pinguins Bremerhaven
DTSTART;TZID=Europe/Berlin:20170217T193000
DTEND;TZID=Europe/Berlin:20170217T220000
UID:48@dynamop
PRIORITY:5
END:VEVENT
BEGIN:VEVENT
SUMMARY:50. Spieltag: Krefeld Pinguine vs. Eisbären Berlin
DTSTART;TZID=Europe/Berlin:20170221T193000
DTEND;TZID=Europe/Berlin:20170221T220000
UID:50@dynamop
PRIORITY:5
END:VEVENT
BEGIN:VEVENT
SUMMARY:51. Spieltag: Eisbären Berlin vs. ERC Ingolstadt
DTSTART;TZID=Europe/Berlin:20170224T193000
DTEND;TZID=Europe/Berlin:20170224T220000
UID:51@dynamop
PRIORITY:5
END:VEVENT
BEGIN:VEVENT
SUMMARY:52. Spieltag: Eisbären Berlin vs. Iserlohn Roosters
DTSTART;TZID=Europe/Berlin:20170226T140000
DTEND;TZID=Europe/Berlin:20170226T163000
UID:52@dynamop
PRIORITY:5
END:VEVENT
BEGIN:VEVENT
SUMMARY:53. Spieltag: Eisbären Berlin vs. Straubing Tigers
DTSTART;TZID=Europe/Berlin:20170301T193000
DTEND;TZID=Europe/Berlin:20170301T220000
UID:53@dynamop
PRIORITY:5
END:VEVENT
BEGIN:VEVENT
SUMMARY:54. Spieltag: Straubing Tigers vs. Eisbären Berlin
DTSTART;TZID=Europe/Berlin:20170303T193000
DTEND;TZID=Europe/Berlin:20170303T220000
UID:54@dynamop
PRIORITY:5
END:VEVENT
BEGIN:VEVENT
SUMMARY:56. Spieltag: Adler Mannheim vs. Eisbären Berlin
DTSTART;TZID=Europe/Berlin:20170307T193000
DTEND;TZID=Europe/Berlin:20170307T220000
UID:56@dynamop
PRIORITY:5
END:VEVENT
BEGIN:VEVENT
SUMMARY:57. Spieltag: Eisbären Berlin vs. Adler Mannheim
DTSTART;TZID=Europe/Berlin:20170310T193000
DTEND;TZID=Europe/Berlin:20170310T220000
UID:57@dynamop
PRIORITY:5
END:VEVENT
BEGIN:VEVENT
SUMMARY:58. Spieltag: Adler Mannheim vs. Eisbären Berlin
DTSTART;TZID=Europe/Berlin:20170312T140000
DTEND;TZID=Europe/Berlin:20170312T163000
UID:58@dynamop
PRIORITY:5
END:VEVENT
BEGIN:VEVENT
SUMMARY:59. Spieltag: Eisbären Berlin vs. Adler Mannheim
DTSTART;TZID=Europe/Berlin:20170315T193000
DTEND;TZID=Europe/Berlin:20170315T220000
UID:59@dynamop
PRIORITY:5
END:VEVENT
BEGIN:VEVENT
SUMMARY:60. Spieltag: Adler Mannheim vs. Eisbären Berlin
DTSTART;TZID=Europe/Berlin:20170317T193000
DTEND;TZID=Europe/Berlin:20170317T220000
UID:60@dynamop
PRIORITY:5
END:VEVENT
BEGIN:VEVENT
SUMMARY:61. Spieltag: Eisbären Berlin vs. Adler Mannheim
DTSTART;TZID=Europe/Berlin:20170319T140000
DTEND;TZID=Europe/Berlin:20170319T163000
UID:61@dynamop
PRIORITY:5
END:VEVENT
BEGIN:VEVENT
SUMMARY:62. Spieltag: Adler Mannheim vs. Eisbären Berlin
DTSTART;TZID=Europe/Berlin:20170321T200000
DTEND;TZID=Europe/Berlin:20170321T223000
UID:62@dynamop
PRIORITY:5
END:VEVENT
BEGIN:VEVENT
SUMMARY:63. Spieltag: EHC Red Bull München vs. Eisbären Berlin
DTSTART;TZID=Europe/Berlin:20170324T193000
DTEND;TZID=Europe/Berlin:20170324T220000
UID:63@dynamop
PRIORITY:5
END:VEVENT
BEGIN:VEVENT
SUMMARY:64. Spieltag: Eisbären Berlin vs. EHC Red Bull München
DTSTART;TZID=Europe/Berlin:20170326T164500
DTEND;TZID=Europe/Berlin:20170326T191500
UID:64@dynamop
PRIORITY:5
END:VEVENT
BEGIN:VEVENT
SUMMARY:65. Spieltag: EHC Red Bull München vs. Eisbären Berlin
DTSTART;TZID=Europe/Berlin:20170328T193000
DTEND;TZID=Europe/Berlin:20170328T220000
UID:65@dynamop
PRIORITY:5
END:VEVENT
BEGIN:VEVENT
SUMMARY:66. Spieltag: Eisbären Berlin vs. EHC Red Bull München
DTSTART;TZID=Europe/Berlin:20170331T193000
DTEND;TZID=Europe/Berlin:20170331T220000
UID:66@dynamop
PRIORITY:5
END:VEVENT
BEGIN:VEVENT
SUMMARY:67. Spieltag: EHC Red Bull München vs. Eisbären Berlin
DTSTART;TZID=Europe/Berlin:20170402T163000
DTEND;TZID=Europe/Berlin:20170402T190000
UID:67@dynamop
PRIORITY:5
END:VEVENT
END:VCALENDAR
